BEGIN:VCALENDAR
VERSION:2.0
PRODID:-//Pusat Studi Satwa Primata
CALSCALE:GREGORIAN
METHOD:PUBLISH
X-WR-CALNAME:Pusat Studi Satwa Primata
X-ORIGINAL-URL:https://primata.ipb.ac.id/event/principle-and-application-of-technology-in-observing-wildlife-population-webinar/
X-WR-CALDESC:“Principle and Application of Technology in Observing Wildlife Population” Webinar
BEGIN:VEVENT
DTSTART:20210506T083000
DTEND:20210506T110000
SUMMARY:“Principle and Application of Technology in Observing Wildlife Population” Webinar
DESCRIPTION:
LOCATION:
END:VEVENT
END:VCALENDAR
