BEGIN:VCALENDAR
VERSION:2.0
PRODID:-//Pusat Studi Satwa Primata
CALSCALE:GREGORIAN
METHOD:PUBLISH
X-WR-CALNAME:Pusat Studi Satwa Primata
X-ORIGINAL-URL:https://primata.ipb.ac.id/event/perlombaan-keluarga-besar-pusat-studi-satwa-primata/
X-WR-CALDESC:Perlombaan Keluarga Besar Pusat Studi Satwa Primata
BEGIN:VEVENT
DTSTART:20200818T073000
DTEND:20200828T160000
SUMMARY:Perlombaan Keluarga Besar Pusat Studi Satwa Primata
DESCRIPTION:
LOCATION:Pusat Studi Satwa Primata LPPM-IPB
END:VEVENT
END:VCALENDAR
