BEGIN:VCALENDAR
VERSION:2.0
PRODID:-//Pusat Studi Satwa Primata
CALSCALE:GREGORIAN
METHOD:PUBLISH
X-WR-CALNAME:Pusat Studi Satwa Primata
X-ORIGINAL-URL:https://primata.ipb.ac.id/event/a-halfday-seminar/
X-WR-CALDESC:A Halfday Seminar
BEGIN:VEVENT
DTSTART:20191018T000000
DTEND:20191018T000000
SUMMARY:A Halfday Seminar
DESCRIPTION:
LOCATION:Ruang Sidang Pusat Studi Satwa Primata IPB Jl. Lodaya II No.5 Bogor Tengah 16151
END:VEVENT
END:VCALENDAR
