BEGIN:VCALENDAR
VERSION:2.0
PRODID:-//Pusat Studi Satwa Primata
CALSCALE:GREGORIAN
METHOD:PUBLISH
X-WR-CALNAME:Pusat Studi Satwa Primata
X-ORIGINAL-URL:https://primata.ipb.ac.id/event/workshop-on-wildlife-immobilization-techniques-using-tulup-amp-animal-air-rifles-and-munas-2/
X-WR-CALDESC:Workshop on Wildlife Immobilization Techniques Using Tulup &amp; amp; Animal Air Rifles and Munas
BEGIN:VEVENT
DTSTART:20190323T080000
DTEND:20190323T160000
SUMMARY:Workshop on Wildlife Immobilization Techniques Using Tulup &amp; amp; Animal Air Rifles and Munas
DESCRIPTION:
LOCATION:R. Sidang PSSP
END:VEVENT
END:VCALENDAR
